BEGIN:VCALENDAR
PRODID:-//Events Calendar//iCal4j 1.0//EN
CALSCALE:GREGORIAN
BEGIN:VEVENT
DTSTAMP:20260422T110908Z
DTSTART:20260423T000000
DTEND:20260423T235900
SUMMARY:Annual General Meeting - Approval of the Financial Statements at 31 December 2025\; Appointment of the Board of Statutory Auditors\; Remuneration Report
TZID:Europe/Rome
UID:20260422T110908Z-Generali@lghmkl33hcp005.generali.it
END:VEVENT
END:VCALENDAR
