BEGIN:VCALENDAR
PRODID:-//Events Calendar//iCal4j 1.0//EN
CALSCALE:GREGORIAN
BEGIN:VEVENT
DTSTAMP:20260422T110908Z
DTSTART:20260518T000000
DTEND:20260518T235900
SUMMARY:Share ex-dividend date
TZID:Europe/Rome
UID:20260422T110909Z-Generali@lghmkl33hcp005.generali.it
END:VEVENT
END:VCALENDAR
