BEGIN:VCALENDAR
PRODID:-//Events Calendar//iCal4j 1.0//EN
CALSCALE:GREGORIAN
BEGIN:VEVENT
DTSTAMP:20260420T112457Z
DTSTART:20260520T000000
DTEND:20260520T235900
SUMMARY:Pagamento del dividendo delle azioni
TZID:Europe/Rome
UID:20260420T112457Z-Generali@lghmkl33hcp007.generali.it
END:VEVENT
END:VCALENDAR
