BEGIN:VCALENDAR
PRODID:-//Events Calendar//iCal4j 1.0//EN
CALSCALE:GREGORIAN
BEGIN:VEVENT
DTSTAMP:20260422T111008Z
DTSTART:20260520T000000
DTEND:20260520T235900
SUMMARY:Dividend pay-out on the share
TZID:Europe/Rome
UID:20260422T111008Z-Generali@lghmkl33hcp007.generali.it
END:VEVENT
END:VCALENDAR
